BEGIN:VCALENDAR
VERSION:2.0
PRODID:icalendar-ruby
CALSCALE:GREGORIAN
METHOD:PUBLISH
BEGIN:VEVENT
DTSTAMP:20260423T164438Z
UID:3cd2cb34-23dd-437f-877e-f4aebc9b5066
DTSTART:20250927T140000
DTEND:20250927T220000
DESCRIPTION:<p><em style="color: rgb(0\, 0\, 0)\;">‘Experience the soul o
 f Ibiza under African skies’</em></p><p><br></p><p><strong style="color:
  rgb(0\, 0\, 0)\;">Ibiza on the Highveld</strong></p><p><strong style="col
 or: rgb(0\, 0\, 0)\;">Kromdraai Impact Hub</strong></p><p><strong style="c
 olor: rgb(0\, 0\, 0)\;">Saturday 27 September 2025</strong></p><p><br></p>
 <p><span style="color: rgb(0\, 0\, 0)\;">Revel in the cultural exchange wh
 ere Ibiza’s global energy meets South Africa’s deep-rooted rhythm. Ibi
 za on the Highveld features an all-star roster of South African artists wh
 o have graced Ibiza’s iconic stages:</span></p><p><br></p><ul><li><stron
 g style="color: rgb(0\, 0\, 0)\;">DJ Merlon</strong></li><li><strong style
 ="color: rgb(0\, 0\, 0)\;">Culoe De Song</strong></li><li><strong style="c
 olor: rgb(0\, 0\, 0)\;">Lemon & Herb</strong></li><li><strong style="color
 : rgb(0\, 0\, 0)\;">Breetz</strong></li><li><strong style="color: rgb(0\, 
 0\, 0)\;">Ten Oceans</strong></li><li><strong style="color: rgb(0\, 0\, 0)
 \;">Music Man Symphonic Ensemble</strong></li></ul><p><br></p><p><span sty
 le="color: rgb(0\, 0\, 0)\;">These artists have shaped dance floors from E
 urope to the Americas - and now they are bringing the essence of those Med
 iterranean nights back home to the Highveld.</span></p><p><br></p><p><span
  style="color: rgb(0\, 0\, 0)\;">South African music has left an undeniabl
 e imprint on the global electronic scene. From the grooves of Afro-house t
 o the melodies of deep house and AmaPiano\, our sound inspires internation
 al DJ sets worldwide.</span></p><p><br></p><p><span style="color: rgb(0\, 
 0\, 0)\;">Ibiza on the Highveld is a celebration of that influence.</span>
 </p><p><br></p><p><span style="color: rgb(0\, 0\, 0)\;">Explore vibrant fo
 od stalls\, sip crafted cocktails from buzzing bars\, and dive into exciti
 ng brand activations throughout the day. For the ultimate experience\, our
  VIP package includes an exclusive menu curated by Spanish chef </span><st
 rong style="color: rgb(0\, 0\, 0)\;">Santi Louzàn</strong><span style="co
 lor: rgb(0\, 0\, 0)\;"> of Chef’s Table in Cape Town\, blending Iberian 
 artistry with local flavours.</span></p><p><br></p><p>Tickets are limited 
 and available here or via www.kromdraaihub.com</p><p><br></p><p>* Early Bi
 rd Tier 1: R350</p><p>* ⁠Early Bird Tier 2: R425</p><p>* ⁠General Admi
 ssion Tier 3: R500</p><p>* ⁠General Admission Tier 4: R575</p><p>* ⁠Fi
 nal Admission Tier 5: R650</p><p>* ⁠Final Admission Tier 6: R725</p><p>*
  ⁠VIP Tickets Tier 7: R1\,650</p><p><br></p><p>Doors open at 2pm and the
  event concludes at 10pm.</p><p><span style="color: rgb(0\, 0\, 0)\;">No u
 nder 21’s permitted.</span></p><p>There is ample secure parking availabl
 e at the venue.</p><p>No food\, drinks\, pets\, gazebos or sporting equipm
 ent may be brought into the venue.</p><p><br></p><p>Hay bales will be prov
 ided for seating\; picnic blankets and sun-hats are recommended</p><p>Entr
 y and use of the facilities is entirely at the visitor's own risk.</p><p>K
 romdraai Impact Hub has no responsibility for injury or loss of any kind\,
  howsoever arising.</p><p>Right of entry is reserved.</p><p><br></p><p><br
 ></p><p><br></p><p><br></p>
LOCATION:Kromdraai Road\, Krugersdorp\, 1739
SUMMARY:Ibiza on the Highveld
URL;VALUE=URI:https://impacthub.howler.co.za/ibizahighveld
END:VEVENT
END:VCALENDAR
